BEGIN:VCALENDAR
VERSION:2.0
PRODID:-//wp-events-plugin.com//7.2.3.1//EN
TZID:America/New_York
X-WR-TIMEZONE:America/New_York
BEGIN:VEVENT
UID:18@brattleborolegionband.org
DTSTART;TZID=America/New_York:20241211T190000
DTEND;TZID=America/New_York:20241211T210000
DTSTAMP:20241123T193028Z
URL:https://brattleborolegionband.org/events/2023-christmas-concert/
SUMMARY:Winter Concert
DESCRIPTION:Come enjoy our Winter Concert at 7 pm at Post 5 American Legion
 \, Brattleboro.\n\nBring the family for a fun evening of music with the Br
 attleboro Legion Band!
LOCATION:American Legion Post 5\, 32 Linden Street\, Brattleboro\, VT\, 053
 01\, United States
X-APPLE-STRUCTURED-LOCATION;VALUE=URI;X-ADDRESS=32 Linden Street\, Brattleb
 oro\, VT\, 05301\, United States;X-APPLE-RADIUS=100;X-TITLE=American Legio
 n Post 5:geo:0,0
END:VEVENT
BEGIN:VTIMEZONE
TZID:America/New_York
X-LIC-LOCATION:America/New_York
BEGIN:STANDARD
DTSTART:20241103T010000
TZOFFSETFROM:-0400
TZOFFSETTO:-0500
TZNAME:EST
END:STANDARD
END:VTIMEZONE
END:VCALENDAR