BEGIN:VCALENDAR
VERSION:2.0
PRODID:-//wp-events-plugin.com//7.2.3.1//EN
TZID:America/New_York
X-WR-TIMEZONE:America/New_York
BEGIN:VEVENT
UID:57@brattleborolegionband.org
DTSTART;TZID=America/New_York:20260530T183000
DTEND;TZID=America/New_York:20260530T183000
DTSTAMP:20260303T223955Z
URL:https://brattleborolegionband.org/events/dummerston-memorial-day-2/
SUMMARY:Concert - Dummerston Memorial Day
DESCRIPTION:
LOCATION:Dummerston Grange\, 1008 East-West Rd\, Putney\, VT\, 05346\, Unit
 ed States
X-APPLE-STRUCTURED-LOCATION;VALUE=URI;X-ADDRESS=1008 East-West Rd\, Putney\
 , VT\, 05346\, United States;X-APPLE-RADIUS=100;X-TITLE=Dummerston Grange:
 geo:0,0
END:VEVENT
BEGIN:VTIMEZONE
TZID:America/New_York
X-LIC-LOCATION:America/New_York
BEGIN:DAYLIGHT
DTSTART:20260308T030000
TZOFFSETFROM:-0500
TZOFFSETTO:-0400
TZNAME:EDT
END:DAYLIGHT
END:VTIMEZONE
END:VCALENDAR