BEGIN:VCALENDAR
VERSION:2.0
PRODID:-//wp-events-plugin.com//7.2.3.1//EN
TZID:America/New_York
X-WR-TIMEZONE:America/New_York
BEGIN:VEVENT
UID:58@brattleborolegionband.org
DTSTART;TZID=America/New_York:20260606T100000
DTEND;TZID=America/New_York:20260606T100000
DTSTAMP:20260303T223617Z
URL:https://brattleborolegionband.org/events/windsor-parade-3/
SUMMARY:Parade - Windsor\, VT
DESCRIPTION:
END:VEVENT
BEGIN:VTIMEZONE
TZID:America/New_York
X-LIC-LOCATION:America/New_York
BEGIN:DAYLIGHT
DTSTART:20260308T030000
TZOFFSETFROM:-0500
TZOFFSETTO:-0400
TZNAME:EDT
END:DAYLIGHT
END:VTIMEZONE
END:VCALENDAR