BEGIN:VCALENDAR
VERSION:2.0
PRODID:-//wp-events-plugin.com//7.2.3.1//EN
TZID:America/New_York
X-WR-TIMEZONE:America/New_York
BEGIN:VEVENT
UID:69@brattleborolegionband.org
DTSTART;TZID=America/New_York:20261209T190000
DTEND;TZID=America/New_York:20261209T190000
DTSTAMP:20260303T224611Z
URL:https://brattleborolegionband.org/events/winter-concert/
SUMMARY:Winter Concert
DESCRIPTION:
LOCATION:American Legion Post 5\, 32 Linden Street\, Brattleboro\, VT\, 053
 01\, United States
X-APPLE-STRUCTURED-LOCATION;VALUE=URI;X-ADDRESS=32 Linden Street\, Brattleb
 oro\, VT\, 05301\, United States;X-APPLE-RADIUS=100;X-TITLE=American Legio
 n Post 5:geo:0,0
END:VEVENT
BEGIN:VTIMEZONE
TZID:America/New_York
X-LIC-LOCATION:America/New_York
BEGIN:STANDARD
DTSTART:20261101T010000
TZOFFSETFROM:-0400
TZOFFSETTO:-0500
TZNAME:EST
END:STANDARD
END:VTIMEZONE
END:VCALENDAR